BEGIN:VCALENDAR
VERSION:2.0
PRODID:-//BASIS Charter Schools - ECPv6.11.1//NONSGML v1.0//EN
CALSCALE:GREGORIAN
METHOD:PUBLISH
X-WR-CALNAME:BASIS Charter Schools
X-ORIGINAL-URL:https://enrollbasis.com
X-WR-CALDESC:Events for BASIS Charter Schools
REFRESH-INTERVAL;VALUE=DURATION:PT1H
X-Robots-Tag:noindex
X-PUBLISHED-TTL:PT1H
BEGIN:VTIMEZONE
TZID:America/Phoenix
BEGIN:STANDARD
TZOFFSETFROM:-0700
TZOFFSETTO:-0700
TZNAME:MST
DTSTART:20260101T000000
END:STANDARD
END:VTIMEZONE
BEGIN:VEVENT
DTSTART;TZID=America/Phoenix:20260330T173000
DTEND;TZID=America/Phoenix:20260330T183000
DTSTAMP:20260421T080109
CREATED:20251027T163155Z
LAST-MODIFIED:20260122T210622Z
UID:282949-1774891800-1774895400@enrollbasis.com
SUMMARY:Tour BASIS Tucson North
DESCRIPTION:Learn why more and more families are enrolling their students at BASIS Tucson North!\n\n\nBASIS Tucson North is the #2 Tucson\, AZ Metro Area High School\, #4 Arizona High School\, #7 STEM High School in the country per U.S. News & World Report. \nLearn why more and more families are enrolling their children in Kindergarten at BASIS Tucson North (5-12). \nDuring this tour we will explore: \n\nWhat makes BASIS the #1 public school network\nHow we nurture a life-long love of learning in our students\nOur beautiful campus and unique facilities\nOur accelerated curriculum\, AP courses\, and a variety of enriching extracurriculars\nOur before and after-school resources for students and families\n\nPlease arrive 15 minutes before your tour is scheduled to start. You will need to check in at the front desk and get a visitor’s badge. For security purposes\, we require all adult attendees to present photo identification when checking in. \nLooking for grades K-4? BASIS Tucson Primary is a feeder school to BASIS Tucson North. \nBASIS Charter Schools provide world-class\, tuition-free K–12 education. We have 40 campuses across Arizona\, Louisiana\, Texas\, and Washington\, D.C. To view a complete list of our schools\, visit enrollBASIS.com.
URL:https://enrollbasis.com/event/tour-basis-tucson-north-71/
LOCATION:BASIS Tucson North\, 5740 East River Road\, Tucson\, AZ\, 85750\, United States
CATEGORIES:Tours
ATTACH;FMTTYPE=image/jpeg:https://enrollbasis.com/wp-content/uploads/2024/10/ae170d9a247518286a7640707ba0ada5-grh0IC.tmp_.jpg
END:VEVENT
END:VCALENDAR